BEGIN:VCALENDAR
VERSION:2.0
PRODID:-//SugarCane - ECPv6.15.11//NONSGML v1.0//EN
CALSCALE:GREGORIAN
METHOD:PUBLISH
X-WR-CALNAME:SugarCane
X-ORIGINAL-URL:https://www.sugarcane.org
X-WR-CALDESC:Events for SugarCane
REFRESH-INTERVAL;VALUE=DURATION:PT1H
X-Robots-Tag:noindex
X-PUBLISHED-TTL:PT1H
BEGIN:VTIMEZONE
TZID:America/Sao_Paulo
BEGIN:STANDARD
TZOFFSETFROM:-0300
TZOFFSETTO:-0300
TZNAME:-03
DTSTART:20240101T000000
END:STANDARD
END:VTIMEZONE
BEGIN:VEVENT
DTSTART;VALUE=DATE:20250925
DTEND;VALUE=DATE:20250927
DTSTAMP:20260419T202405
CREATED:20250313T103754Z
LAST-MODIFIED:20250313T103754Z
UID:7042-1758758400-1758931199@www.sugarcane.org
SUMMARY:3rd International Conference & Expo on Biofuels and Bioenergy
DESCRIPTION:3rd International Conference & Expo on Biofuels and Bioenergy will be hold under the theme “Endorsing New Developments in Biofuels and Bioenergy for a Better Environment”. The conference aims to unite experts worldwide to explore the potential of biofuels as a sustainable energy solution\, fostering collaboration and innovation to address global energy challenges. \nPlease click here for more information
URL:https://www.sugarcane.org/event/3rd-international-conference-expo-on-biofuels-and-bioenergy/
LOCATION:NH Vienna Airport Conference Center\, Vienna\, Austria
CATEGORIES:Bioenergy,Ethanol
ATTACH;FMTTYPE=image/png:https://www.sugarcane.org/wp-content/uploads/2025/03/Screenshot-2025-03-13-113622.png
END:VEVENT
END:VCALENDAR