BEGIN:VCALENDAR
VERSION:2.0
PRODID:-//SugarCane - ECPv6.15.11//NONSGML v1.0//EN
CALSCALE:GREGORIAN
METHOD:PUBLISH
X-ORIGINAL-URL:https://www.sugarcane.org
X-WR-CALDESC:Events for SugarCane
REFRESH-INTERVAL;VALUE=DURATION:PT1H
X-Robots-Tag:noindex
X-PUBLISHED-TTL:PT1H
BEGIN:VTIMEZONE
TZID:America/Sao_Paulo
BEGIN:STANDARD
TZOFFSETFROM:-0300
TZOFFSETTO:-0300
TZNAME:-03
DTSTART:20240101T000000
END:STANDARD
END:VTIMEZONE
BEGIN:VEVENT
DTSTART;VALUE=DATE:20250624
DTEND;VALUE=DATE:20250626
DTSTAMP:20260420T013706
CREATED:20250313T080137Z
LAST-MODIFIED:20250313T080137Z
UID:7013-1750723200-1750895999@www.sugarcane.org
SUMMARY:16th Biofuels International Conference & Expo
DESCRIPTION:16th Biofuels International Conference & Expo will bring together leading producers\, suppliers\, regulators and other engaged organizations over a two-day period. High-level speakers\, experts in their field\, will address a range of topical issues relating to the biofuels sector. \nRegister here 
URL:https://www.sugarcane.org/event/16th-biofuels-international-conference-expo/
LOCATION:Brussels\, Belgium
CATEGORIES:Ethanol
ATTACH;FMTTYPE=image/png:https://www.sugarcane.org/wp-content/uploads/2025/03/Screenshot-2025-03-13-085418.png
END:VEVENT
END:VCALENDAR