BEGIN:VCALENDAR
VERSION:2.0
PRODID:-//SugarCane - ECPv6.15.11//NONSGML v1.0//EN
CALSCALE:GREGORIAN
METHOD:PUBLISH
X-ORIGINAL-URL:https://www.sugarcane.org
X-WR-CALDESC:Events for SugarCane
REFRESH-INTERVAL;VALUE=DURATION:PT1H
X-Robots-Tag:noindex
X-PUBLISHED-TTL:PT1H
BEGIN:VTIMEZONE
TZID:America/Sao_Paulo
BEGIN:STANDARD
TZOFFSETFROM:-0300
TZOFFSETTO:-0300
TZNAME:-03
DTSTART:20240101T000000
END:STANDARD
END:VTIMEZONE
BEGIN:VEVENT
DTSTART;VALUE=DATE:20250609
DTEND;VALUE=DATE:20250612
DTSTAMP:20260420T013715
CREATED:20250312T102516Z
LAST-MODIFIED:20250312T102516Z
UID:6992-1749427200-1749686399@www.sugarcane.org
SUMMARY:2025 International Fuel Ethanol Workshop & Expo
DESCRIPTION:2025 International Fuel Ethanol Workshop & Expo Now in is in its 41st year providing the global ethanol industry with cutting-edge content and networking opportunities in a dynamic business-to-business environment. \nRegister here
URL:https://www.sugarcane.org/event/2025-international-fuel-ethanol-workshop-expo/
LOCATION:Omaha\, United States
CATEGORIES:Ethanol
ATTACH;FMTTYPE=image/png:https://www.sugarcane.org/wp-content/uploads/2025/03/Screenshot-2025-03-12-112412.png
END:VEVENT
END:VCALENDAR