BEGIN:VCALENDAR
VERSION:2.0
PRODID:-//SugarCane - ECPv6.15.11//NONSGML v1.0//EN
CALSCALE:GREGORIAN
METHOD:PUBLISH
X-ORIGINAL-URL:https://www.sugarcane.org
X-WR-CALDESC:Events for SugarCane
REFRESH-INTERVAL;VALUE=DURATION:PT1H
X-Robots-Tag:noindex
X-PUBLISHED-TTL:PT1H
BEGIN:VTIMEZONE
TZID:America/Sao_Paulo
BEGIN:STANDARD
TZOFFSETFROM:-0300
TZOFFSETTO:-0300
TZNAME:-03
DTSTART:20240101T000000
END:STANDARD
END:VTIMEZONE
BEGIN:VEVENT
DTSTART;VALUE=DATE:20250413
DTEND;VALUE=DATE:20251014
DTSTAMP:20260419T100645
CREATED:20250312T052826Z
LAST-MODIFIED:20250312T052826Z
UID:6964-1744502400-1760399999@www.sugarcane.org
SUMMARY:Expo Osaka 2025
DESCRIPTION:World Expo is an event that brings together people and innovations from around the worldin an effort to address issues facing humankind on a global scale. This year the event will be held in Japan\, with the theme “Designing Future Society for Our Lives”. \nClick here for more information
URL:https://www.sugarcane.org/event/expo-osaka-2025/
LOCATION:Osaka
CATEGORIES:Bioeconomy
ATTACH;FMTTYPE=image/png:https://www.sugarcane.org/wp-content/uploads/2025/03/Screenshot-2025-03-12-062015.png
END:VEVENT
BEGIN:VEVENT
DTSTART;VALUE=DATE:20250622
DTEND;VALUE=DATE:20250927
DTSTAMP:20260419T100645
CREATED:20250313T102804Z
LAST-MODIFIED:20250313T102804Z
UID:7038-1750550400-1758931199@www.sugarcane.org
SUMMARY:Transport and Climate Change Week
DESCRIPTION:Transport and Climate Change Week brings together experts and decision-makers from all around the world to facilitate knowledge sharing and networking through peer-to-peer exchanges and specialized workshops. Not only does it build capacity\, but it also builds meaningful relationships that are the foundation of development cooperation. The objective is to build confidence in the feasibility of changing transport towards net zero emissions. \nClick here for more information
URL:https://www.sugarcane.org/event/transport-and-climate-change-week/
LOCATION:Berlin\, Germany
CATEGORIES:Transport
ATTACH;FMTTYPE=image/png:https://www.sugarcane.org/wp-content/uploads/2025/03/Screenshot-2025-03-13-112654.png
END:VEVENT
BEGIN:VEVENT
DTSTART;VALUE=DATE:20250911
DTEND;VALUE=DATE:20250914
DTSTAMP:20260419T100645
CREATED:20250313T084737Z
LAST-MODIFIED:20250313T085736Z
UID:7027-1757548800-1757807999@www.sugarcane.org
SUMMARY:2nd Edition of Global Conference on Biofuels and Bioenergy
DESCRIPTION:Global Conference on Biofuels and Bioenergy offers a unique hybrid experience both in-person and online\, ensuring global participation and collaboration with the theme “Advancing Biofuel Research: Bridging the Gap between Lab and Industry “.\nBiofuels 2025 serves as a vital platform for researchers\, academics\, industry professionals\, and policymakers to converge and exchange insights\, innovations\, and advancements in the realm of biofuels and bioenergy. \nRegister here
URL:https://www.sugarcane.org/event/2nd-edition-of-global-conference-on-biofuels-and-bioenergy/
LOCATION:Valencia\, Spain
CATEGORIES:Bioenergy,Ethanol
ATTACH;FMTTYPE=image/png:https://www.sugarcane.org/wp-content/uploads/2025/03/Screenshot-2025-03-13-094449.png
END:VEVENT
END:VCALENDAR