BEGIN:VCALENDAR
VERSION:2.0
PRODID:-//SugarCane - ECPv6.15.11//NONSGML v1.0//EN
CALSCALE:GREGORIAN
METHOD:PUBLISH
X-WR-CALNAME:SugarCane
X-ORIGINAL-URL:https://www.sugarcane.org
X-WR-CALDESC:Events for SugarCane
REFRESH-INTERVAL;VALUE=DURATION:PT1H
X-Robots-Tag:noindex
X-PUBLISHED-TTL:PT1H
BEGIN:VTIMEZONE
TZID:America/Sao_Paulo
BEGIN:STANDARD
TZOFFSETFROM:-0300
TZOFFSETTO:-0300
TZNAME:-03
DTSTART:20240101T000000
END:STANDARD
END:VTIMEZONE
BEGIN:VEVENT
DTSTART;VALUE=DATE:20250401
DTEND;VALUE=DATE:20250404
DTSTAMP:20260419T195939
CREATED:20250311T123154Z
LAST-MODIFIED:20250311T123154Z
UID:6955-1743465600-1743724799@www.sugarcane.org
SUMMARY:Argus Biomass Conference
DESCRIPTION:Argus Biomass Conference invites 450+ international peers to explore new innovations in the pellet market\, new industrial applications of biomass including biochar and biocarbon in the steel\, cement and aluminium industries\, SAF and agribiomass\, and new procurement opportunities. \nRegister here
URL:https://www.sugarcane.org/event/argus-biomass-conference/
LOCATION:London
CATEGORIES:Biomass
ATTACH;FMTTYPE=image/png:https://www.sugarcane.org/wp-content/uploads/2025/03/Screenshot-2025-03-11-132904.png
END:VEVENT
END:VCALENDAR